BEGIN:VCALENDAR
PRODID:-//eluceo/ical//2.0/EN
VERSION:2.0
CALSCALE:GREGORIAN
BEGIN:VEVENT
UID:25a05b04c15d3fed7e99726538bb2679
DTSTAMP:20260420T061455Z
SUMMARY:UJA Zimriyah (Jewish School Choral Festival)
DESCRIPTION:UJA Federation of Greater Toronto\nJewish Toronto Calendar\nhtt
 ps://jewishtoronto.com/calendar/zimriyah-jewish-school-choral-festival-170
 0600441\n\nJoin us for Zimriyah\, the Toronto Jewish schools’ annual cho
 ral festival! Presented by the Julia & Henry Koschitzky Centre for Jewish 
 Education\, Zimriyah brings together hundreds of students representing Jew
 ish day schools and part-time education programs across the GTA. Parents\,
  grandparents\, and friends are welcome to attend morning and afternoon pe
 rformances to watch musical presentations in school groups and as a commun
 ity ensemble.
DTSTART;TZID=America/Toronto:20240211T090000
DTEND;TZID=America/Toronto:20240211T160000
END:VEVENT
END:VCALENDAR
