BEGIN:VCALENDAR
PRODID:-//eluceo/ical//2.0/EN
VERSION:2.0
CALSCALE:GREGORIAN
BEGIN:VEVENT
UID:2ffafa239e964ab78fea21d5ccad6125
DTSTAMP:20260422T201509Z
SUMMARY:Yom Ha’Atzmaut Film Screening: The Future of Israel and Its Defen
 ders!
DESCRIPTION:UJA Federation of Greater Toronto\nJewish Toronto Calendar\nhtt
 ps://jewishtoronto.com/calendar/yom-haatzmaut-film-screening-the-future-of
 -israel-and-its-defenders-1681413573\n\nFollowing our tefillot for Yaom Ha
 ’Zikaron and Yom Ha’Atzmaut\, Holy Blossom Temple will be screening th
 e new documentary “The Future of Israel and its Defenders.”The Future 
 of Israel and its Defenders is a new documentary that shows a new emerging
  face of Israel. One that is proud and feeling normalized amongst its Midd
 le East neighbours and in the world community. Israelis are no longer feel
 ing on an island onto themselves. Despite the defamation campaigns and ris
 ing global antisemit...
DTSTART;TZID=America/Toronto:20230425T190000
DTEND;TZID=America/Toronto:20230425T210000
END:VEVENT
END:VCALENDAR
