BEGIN:VCALENDAR
PRODID:-//eluceo/ical//2.0/EN
VERSION:2.0
CALSCALE:GREGORIAN
BEGIN:VEVENT
UID:638c2b840c4291b1838d90d7e22071c2
DTSTAMP:20260423T152946Z
SUMMARY:Yeshivat Or Chaim and Ulpanat Orot Open Houses
DESCRIPTION:UJA Federation of Greater Toronto\nJewish Toronto Calendar\nhtt
 ps://jewishtoronto.com/calendar/yeshivat-or-chaim-and-ulpanat-orot-open-ho
 uses-1678126041\n\nBnei Akiva schools will be hosting their open houses fo
 r incoming grade 9 students. The Ulpanat Orot open house will be in the mo
 rning\, 9am-12pm) at 45 Canyon Ave. The Yeshivat Or Chaim open house will 
 take place in the afternoon (1-4pm) at 159 Almore Ave.
DTSTART;TZID=America/Toronto:20231022T090000
DTEND;TZID=America/Toronto:20231022T190000
END:VEVENT
END:VCALENDAR
