BEGIN:VCALENDAR
PRODID:-//eluceo/ical//2.0/EN
VERSION:2.0
CALSCALE:GREGORIAN
BEGIN:VEVENT
UID:2713b11784f25d138334d1caaa10a5d0
DTSTAMP:20260423T002900Z
SUMMARY:Writing Jewish Today: Three Canadian Authors Discuss
DESCRIPTION:UJA Federation of Greater Toronto\nJewish Toronto Calendar\nhtt
 ps://jewishtoronto.com/calendar/writing-jewish-today-three-canadian-author
 s-discuss-1678379731\n\nIn this lively reading and conversation\, a noveli
 st\, a short story writer\, and a poet discuss what it is to write Jewish.
  What is it to be Jewish in the modern world? Is there a specifically Jewi
 sh way of writing—or of thinking? What are the issues that absorb Jewish
  writers today? Is there something in the culture that can speak to larger
  global concerns? Join novelist Gary Barwin\, short story writer Kathy Fri
 edman\, and poet Adam Sol\, three acclaimed contemporary Canadian authors 
 writing o...
DTSTART;TZID=America/Toronto:20230329T200000
DTEND;TZID=America/Toronto:20230329T214500
END:VEVENT
END:VCALENDAR
