BEGIN:VCALENDAR
PRODID:-//eluceo/ical//2.0/EN
VERSION:2.0
CALSCALE:GREGORIAN
BEGIN:VEVENT
UID:c42b4ba5d75aa0dfdcb5d0a9eb3b91ce
DTSTAMP:20260419T170940Z
SUMMARY:World’s Greatest Cantors
DESCRIPTION:UJA Federation of Greater Toronto\nJewish Toronto Calendar\nhtt
 ps://jewishtoronto.com/calendar/worlds-greatest-cantors-meridian-arts-cent
 re-1693359450\n\nPerformers are Cantors Azi Schwartz - NYC\, Yanky Lemmer 
 - NYC\, Gideon Zelermyer - Montreal\, Shai Abramson - Israel\, Netanel Her
 shtik - The Hamptons. Musical director\, Raymond Goldstein\n\n \n\nWorld
 ’s Greatest Cantors Concert\n“Am Yisrael Chai”\nMeridian Arts Centre
  - Weston Recital Hall\nTuesday\, April 9\, 7:30pm\n \n\nwww.worldsgreate
 stcantors.com\n\ncantor@bethsholom.net\n\nsanchia@bethsholom.net
DTSTART;TZID=America/Toronto:20240409T193000
DTEND;TZID=America/Toronto:20240409T220000
END:VEVENT
END:VCALENDAR
