BEGIN:VCALENDAR
PRODID:-//eluceo/ical//2.0/EN
VERSION:2.0
CALSCALE:GREGORIAN
BEGIN:VEVENT
UID:f54ff2efa38cba847d6eb16b02c2cd5c
DTSTAMP:20260422T120906Z
SUMMARY:Women Friends of Baycrest- WOMEN+ CONTEMPORARY
DESCRIPTION:UJA Federation of Greater Toronto\nJewish Toronto Calendar\nhtt
 ps://jewishtoronto.com/calendar/women-friends-of-baycrest--women-contempor
 ary-1675863599\n\nWOMEN+ CONTEMPORARY: CELEBRATING JEWISH WOMEN IN THE ART
 S Featuring Artists Ina Gilbert\, Gina Godfrey\, Samantha Goldman\, Rachae
 l Grad\, Rochelle Rubinstein\, Rosalie Sharp\, Melanie Siegel\, Kim Smiley
  and Pedie Wolfond - In Person Event
DTSTART;TZID=America/Toronto:20230613T190000
DTEND;TZID=America/Toronto:20230613T210000
END:VEVENT
END:VCALENDAR
