BEGIN:VCALENDAR
PRODID:-//eluceo/ical//2.0/EN
VERSION:2.0
CALSCALE:GREGORIAN
BEGIN:VEVENT
UID:d09951efc1473109eb682677851db503
DTSTAMP:20260421T024442Z
SUMMARY:Women Friends of Baycrest - UNTIL I SMILE AT YOU: THE RUTH LOWE STO
 RY
DESCRIPTION:UJA Federation of Greater Toronto\nJewish Toronto Calendar\nhtt
 ps://jewishtoronto.com/calendar/women-friends-of-baycrest---until-i-smile-
 at-you-the-ruth-lowe-story-1675864031\n\nUNTIL I SMILE AT YOU: THE RUTH LO
 WE STORY: HOW ONE GIRL’S HEARTBREAK ELECTRIFIED FRANK SINATRA’S FAME F
 eaturing Tom Sandler and Peter Jennings - Virtual Event
DTSTART;TZID=America/Toronto:20230912T110000
DTEND;TZID=America/Toronto:20230912T120000
END:VEVENT
END:VCALENDAR
