BEGIN:VCALENDAR
PRODID:-//eluceo/ical//2.0/EN
VERSION:2.0
CALSCALE:GREGORIAN
BEGIN:VEVENT
UID:fe75ec47709b59d490c77f20e3560cb2
DTSTAMP:20260422T120911Z
SUMMARY:Women Friends of Baycrest - SHA’AR SONG OF THE GATE
DESCRIPTION:UJA Federation of Greater Toronto\nJewish Toronto Calendar\nhtt
 ps://jewishtoronto.com/calendar/women-friends-of-baycrest---shaar-song-of-
 the-gate-1675863359\n\nSHA’AR SONG OF THE GATE: JEWISH CULTURE AND THE G
 OLDEN AGE OF SPAIN Featuring Andrea Simon\, Documentary Filmmaker - Virtua
 l Event
DTSTART;TZID=America/Toronto:20230523T110000
DTEND;TZID=America/Toronto:20230523T120000
END:VEVENT
END:VCALENDAR
