BEGIN:VCALENDAR
PRODID:-//eluceo/ical//2.0/EN
VERSION:2.0
CALSCALE:GREGORIAN
BEGIN:VEVENT
UID:fb69fdd128faf6b188d92e84114de985
DTSTAMP:20260423T000131Z
SUMMARY:Window to the Light - DANI Concert with Kodi Lee
DESCRIPTION:UJA Federation of Greater Toronto\nJewish Toronto Calendar\nhtt
 ps://jewishtoronto.com/calendar/window-to-the-light---dani-concert-with-ko
 di-lee-1678675744\n\nConcert with Kodi Lee\, winner of America Got Talent 
 2019 and Top 10 America Got Talent All Stars.
DTSTART;TZID=America/Toronto:20231212T180000
DTEND;TZID=America/Toronto:20231212T220000
END:VEVENT
END:VCALENDAR
