BEGIN:VCALENDAR
PRODID:-//eluceo/ical//2.0/EN
VERSION:2.0
CALSCALE:GREGORIAN
BEGIN:VEVENT
UID:b6e619c31edabdee56cb0b4db8246c96
DTSTAMP:20260420T081835Z
SUMMARY:Weizmann Canada Women's Event
DESCRIPTION:UJA Federation of Greater Toronto\nJewish Toronto Calendar\nhtt
 ps://jewishtoronto.com/calendar/weizmann-canada-womens-event-1680625553\n\
 nWeizmann Canada Women&#39\;s Event
DTSTART;TZID=America/Toronto:20231123T170000
DTEND;TZID=America/Toronto:20231123T220000
END:VEVENT
END:VCALENDAR
