BEGIN:VCALENDAR
PRODID:-//eluceo/ical//2.0/EN
VERSION:2.0
CALSCALE:GREGORIAN
BEGIN:VEVENT
UID:282c83d1ae0c195361047d833e1d611a
DTSTAMP:20260419T140557Z
SUMMARY:Webinar:  The Two-State Mirage with Prof. Frederick Krantz
DESCRIPTION:UJA Federation of Greater Toronto\nJewish Toronto Calendar\nhtt
 ps://jewishtoronto.com/calendar/webinar--the-two-state-mirage-with-prof-fr
 ederick-krantz-1711998838\n\nJust when Israel is fighting for its survival
 \, the Biden administration\, with the support of many Western countries\,
  especially the UK\, is pushing for the establishment of a Palestinian Sta
 te adjacent to Israel. This is despite Israel and the Palestinians’ refu
 sal to embrace a “two-state solution.” Why is the Biden administration
  pushing for this now\, and just how dangerous is this endeavour for the w
 ellbeing of Israel and the Middle East?\n\nProf. Frederick Krantz\, a reno
 wned historian...
DTSTART;TZID=America/Toronto:20240409T193000
DTEND;TZID=America/Toronto:20240409T210000
END:VEVENT
END:VCALENDAR
