BEGIN:VCALENDAR
PRODID:-//eluceo/ical//2.0/EN
VERSION:2.0
CALSCALE:GREGORIAN
BEGIN:VEVENT
UID:df4fa2adf0435bbf9822662cf170696c
DTSTAMP:20260420T040159Z
SUMMARY:Watches & Wonders of Hillel
DESCRIPTION:UJA Federation of Greater Toronto\nJewish Toronto Calendar\nhtt
 ps://jewishtoronto.com/calendar/watches--wonders-of-hillel-1709656750\n\nH
 illel Ontario invites you to Watches & Wonders of Hillel\, an exclusive ev
 ening of horological delight hosted in partnership with Classic Creations.
 \nStep into a world where timepieces tell stories of craftsmanship and ele
 gance. Join Hillel Ontario as we explore the allure of luxury watches guid
 ed by expert representatives from Grand Seiko.\n\nConnect with like-minded
  collectors\, indulge in the artistry of exquisite timepieces\, and discov
 er the timeless mission of Hillel Ontario in empowering...
DTSTART;TZID=America/Toronto:20240418T190000
DTEND;TZID=America/Toronto:20240418T220000
END:VEVENT
END:VCALENDAR
