BEGIN:VCALENDAR
PRODID:-//eluceo/ical//2.0/EN
VERSION:2.0
CALSCALE:GREGORIAN
BEGIN:VEVENT
UID:a3e9d58e0d8ecb8cc74657d49316555d
DTSTAMP:20260419T124056Z
SUMMARY:War Crimes-Blowing Up Media Distortion With Aviv Kohavi & Natasha H
 ausdorff
DESCRIPTION:UJA Federation of Greater Toronto\nJewish Toronto Calendar\nhtt
 ps://jewishtoronto.com/calendar/war-crimes-blowing-up-media-distortion-wit
 h-aviv-kohavi--natasha-hausdorff-1705953891\n\nThis past December\, South 
 Africa launched proceedings at the International Court of Justice (ICJ)\, 
 accusing Israel of committing genocide against Palestinians. That allegati
 on is only the latest in a string of claims asserting that Israel has comm
 itted war crimes in Gaza in recent months\, charges which have received wi
 despread media attention\, in Canada and around the world.\n\nBeyond the h
 eadlines\, and with armchair activists and pundits acting as supposed lega
 l authorities\, it can be diffic...
DTSTART;TZID=America/Toronto:20240130T193000
DTEND;TZID=America/Toronto:20240130T203000
END:VEVENT
END:VCALENDAR
