BEGIN:VCALENDAR
PRODID:-//eluceo/ical//2.0/EN
VERSION:2.0
CALSCALE:GREGORIAN
BEGIN:VEVENT
UID:6fde898d103b82dd04386cbb9fa43edb
DTSTAMP:20260421T024447Z
SUMMARY:Vine Awards for Canadian Jewish Literature: 2023 Shortlisted Author
  Panels
DESCRIPTION:UJA Federation of Greater Toronto\nJewish Toronto Calendar\nhtt
 ps://jewishtoronto.com/calendar/vine-awards-for-canadian-jewish-literature
 -2023-shortlisted-author-panels-1693244466\n\nThe Koffler Centre for the A
 rts and Holy Blossom Temple&#39\;s Schwartz/Reisman Centre for Adult Jewis
 h Learning are pleased to present a selection of the 2023 shortlisted auth
 ors in two lively and insightful panel conversations. The shortlisted book
  will represent the categories of History\, Non-fiction\, Children’s\, P
 oetry and Fiction\, and will be moderated by Sidura Ludwig\, author of You
  Are Not What We Expected\, and Eric Beck Rubin\, author of School of Velo
 city. A light lunch will be served. T...
DTSTART;TZID=America/Toronto:20230910T113000
DTEND;TZID=America/Toronto:20230910T133000
END:VEVENT
END:VCALENDAR
