BEGIN:VCALENDAR
PRODID:-//eluceo/ical//2.0/EN
VERSION:2.0
CALSCALE:GREGORIAN
BEGIN:VEVENT
UID:f1d2b150d8b0d414161b9b4de144527c
DTSTAMP:20260421T020523Z
SUMMARY:UJA's The Littlest Volunteer Event
DESCRIPTION:UJA Federation of Greater Toronto\nJewish Toronto Calendar\nhtt
 ps://jewishtoronto.com/calendar/ujas-the-littlest-volunteer-event\n\nUJA&#
 39\;s Annual Littlest Volunteer Event. Details to follow. 
DTSTART;TZID=America/Toronto:20231119T000000
DTEND;TZID=America/Toronto:20231119T235959
END:VEVENT
END:VCALENDAR
