BEGIN:VCALENDAR
PRODID:-//eluceo/ical//2.0/EN
VERSION:2.0
CALSCALE:GREGORIAN
BEGIN:VEVENT
UID:1de59cf2a99e9deb2d9ca5f3cd57aafb
DTSTAMP:20260425T210811Z
SUMMARY:UJA New Lawyers Welcome Event
DESCRIPTION:UJA Federation of Greater Toronto\nJewish Toronto Calendar\nhtt
 ps://jewishtoronto.com/calendar/ujas-new-lawyers-welcome-event\n\nDetails 
 to follow. 
DTSTART;TZID=America/Toronto:20221012T000000
DTEND;TZID=America/Toronto:20221012T235959
END:VEVENT
END:VCALENDAR
