BEGIN:VCALENDAR
PRODID:-//eluceo/ical//2.0/EN
VERSION:2.0
CALSCALE:GREGORIAN
BEGIN:VEVENT
UID:8a61245d3cd06fc24ae920a4a9132355
DTSTAMP:20260422T154518Z
SUMMARY:UJA Yitzchak Rabin Memorial Day Ceremony
DESCRIPTION:UJA Federation of Greater Toronto\nJewish Toronto Calendar\nhtt
 ps://jewishtoronto.com/calendar/uja-yitzchak-rabin-memorial-day-ceremony\n
 \nDetails to follow. 
DTSTART;TZID=America/Toronto:20231029T180000
DTEND;TZID=America/Toronto:20231029T200000
END:VEVENT
END:VCALENDAR
