BEGIN:VCALENDAR
PRODID:-//eluceo/ical//2.0/EN
VERSION:2.0
CALSCALE:GREGORIAN
BEGIN:VEVENT
UID:a9bb00a762e46502a78f0abe4bdb609e
DTSTAMP:20260419T234832Z
SUMMARY:UJA Community Webinar
DESCRIPTION:UJA Federation of Greater Toronto\nJewish Toronto Calendar\nhtt
 ps://jewishtoronto.com/calendar/uja-womens-philanthropy-community-webinar\
 n\nDetails will be added soon 
DTSTART;TZID=America/Toronto:20240213T193000
DTEND;TZID=America/Toronto:20240213T203000
END:VEVENT
END:VCALENDAR
