BEGIN:VCALENDAR
PRODID:-//eluceo/ical//2.0/EN
VERSION:2.0
CALSCALE:GREGORIAN
BEGIN:VEVENT
UID:568cf39239d6d045f28c24c42b265ce9
DTSTAMP:20260422T145418Z
SUMMARY:UJA Women's Philanthropy Atarah Event
DESCRIPTION:UJA Federation of Greater Toronto\nJewish Toronto Calendar\nhtt
 ps://jewishtoronto.com/calendar/uja-womens-philanthropy-atarah-event\n\nTh
 is is a private event. 
DTSTART;TZID=America/Toronto:20230612T000000
DTEND;TZID=America/Toronto:20230612T235959
END:VEVENT
END:VCALENDAR
