BEGIN:VCALENDAR
PRODID:-//eluceo/ical//2.0/EN
VERSION:2.0
CALSCALE:GREGORIAN
BEGIN:VEVENT
UID:9bd5e85a1d625302105ed332b1afc9cd
DTSTAMP:20260422T211718Z
SUMMARY:UJA Top Gifts Dinner
DESCRIPTION:UJA Federation of Greater Toronto\nJewish Toronto Calendar\nhtt
 ps://jewishtoronto.com/calendar/uja-top-gifts-dinner4\n\nThis is a private
  event. 
DTSTART;TZID=America/Toronto:20230530T000000
DTEND;TZID=America/Toronto:20230530T000000
END:VEVENT
END:VCALENDAR
