BEGIN:VCALENDAR
PRODID:-//eluceo/ical//2.0/EN
VERSION:2.0
CALSCALE:GREGORIAN
BEGIN:VEVENT
UID:e9f18cd35f5d44160aa23868af91cbf7
DTSTAMP:20260421T034450Z
SUMMARY:UJA Super Sunday Telethon
DESCRIPTION:UJA Federation of Greater Toronto\nJewish Toronto Calendar\nhtt
 ps://jewishtoronto.com/calendar/uja-super-sunday-telethon4\n\nUJA Super Su
 nday Telethons. Details to follow.
DTSTART;TZID=America/Toronto:20231029T100000
DTEND;TZID=America/Toronto:20231029T153000
END:VEVENT
END:VCALENDAR
