BEGIN:VCALENDAR
PRODID:-//eluceo/ical//2.0/EN
VERSION:2.0
CALSCALE:GREGORIAN
BEGIN:VEVENT
UID:0325c302070145ca4bc318fe6b2b6238
DTSTAMP:20260420T175347Z
SUMMARY:UJA Southern Hospitality | Top Gifts Event
DESCRIPTION:UJA Federation of Greater Toronto\nJewish Toronto Calendar\nhtt
 ps://jewishtoronto.com/calendar/uja-southern-hospitality-top-gifts-event2\
 n\nThis is a private event. 
DTSTART;TZID=America/Toronto:20240201T000000
DTEND;TZID=America/Toronto:20240201T235959
END:VEVENT
END:VCALENDAR
