BEGIN:VCALENDAR
PRODID:-//eluceo/ical//2.0/EN
VERSION:2.0
CALSCALE:GREGORIAN
BEGIN:VEVENT
UID:9e5562cf78e05b9a44ea37830866b9c5
DTSTAMP:20260421T074858Z
SUMMARY:UJA | ShinShinim Farewell Event
DESCRIPTION:UJA Federation of Greater Toronto\nJewish Toronto Calendar\nhtt
 ps://jewishtoronto.com/calendar/uja-shinshinim-farewell-event\n\nShinShini
 m Farewell Event
DTSTART;TZID=America/Toronto:20240602T180000
DTEND;TZID=America/Toronto:20240602T193000
END:VEVENT
END:VCALENDAR
