BEGIN:VCALENDAR
PRODID:-//eluceo/ical//2.0/EN
VERSION:2.0
CALSCALE:GREGORIAN
BEGIN:VEVENT
UID:3a551f379ba37948feb797ce6ba528a4
DTSTAMP:20260422T014531Z
SUMMARY:UJA | PJ Our Way In-Person Book Talk with Author Joanne Levy
DESCRIPTION:UJA Federation of Greater Toronto\nJewish Toronto Calendar\nhtt
 ps://jewishtoronto.com/calendar/uja-pj-our-way-in-person-book-talk-with-au
 thor-joanne-levy\n\nSummer Camp Series Book Club!\n\nJoin author Joanne Le
 vy in-person as she discusses her book The Sun Will Come Out.\n\nFor kids 
 aged 9-12 years old.\n\nCopies of the book are available free for pick up.
  Click to register!\n\n\n\n\n\n 
DTSTART;TZID=America/Toronto:20240526T133000
DTEND;TZID=America/Toronto:20240526T150000
END:VEVENT
END:VCALENDAR
