BEGIN:VCALENDAR
PRODID:-//eluceo/ical//2.0/EN
VERSION:2.0
CALSCALE:GREGORIAN
BEGIN:VEVENT
UID:8343525561ca54205b55b0d467e1c5a4
DTSTAMP:20260422T220027Z
SUMMARY:UJA Passover Packing Day
DESCRIPTION:UJA Federation of Greater Toronto\nJewish Toronto Calendar\nhtt
 ps://jewishtoronto.com/calendar/uja-passover-packing-day\n\nDetails to fol
 low.
DTSTART;TZID=America/Toronto:20230402T000000
DTEND;TZID=America/Toronto:20230402T000000
END:VEVENT
END:VCALENDAR
