BEGIN:VCALENDAR
PRODID:-//eluceo/ical//2.0/EN
VERSION:2.0
CALSCALE:GREGORIAN
BEGIN:VEVENT
UID:f83b59ad97018f7ac08d49a5aa387ac3
DTSTAMP:20260423T072346Z
SUMMARY:UJA Newcomer Job Fair 2.0
DESCRIPTION:UJA Federation of Greater Toronto\nJewish Toronto Calendar\nhtt
 ps://jewishtoronto.com/calendar/uja-newcomer-job-fair-20\n\nUJA Newcomer J
 ob Fair 2.0
DTSTART;TZID=America/Toronto:20230427T100000
DTEND;TZID=America/Toronto:20230427T130000
END:VEVENT
END:VCALENDAR
