BEGIN:VCALENDAR
PRODID:-//eluceo/ical//2.0/EN
VERSION:2.0
CALSCALE:GREGORIAN
BEGIN:VEVENT
UID:86e7be2afdf42aa7a97d72f673e237ea
DTSTAMP:20260424T005834Z
SUMMARY:UJA New Lawyer's Welcome Event
DESCRIPTION:UJA Federation of Greater Toronto\nJewish Toronto Calendar\nhtt
 ps://jewishtoronto.com/calendar/uja-new-lawyers-welcome-event\n\nDetails t
 o follow. 
DTSTART;TZID=America/Toronto:20230921T000000
DTEND;TZID=America/Toronto:20230921T235959
END:VEVENT
END:VCALENDAR
