BEGIN:VCALENDAR
PRODID:-//eluceo/ical//2.0/EN
VERSION:2.0
CALSCALE:GREGORIAN
BEGIN:VEVENT
UID:5ed3084c3c8fa9182a90362960cd9fbb
DTSTAMP:20260421T202205Z
SUMMARY:UJA March of the Living Young Adult Info Night
DESCRIPTION:UJA Federation of Greater Toronto\nJewish Toronto Calendar\nhtt
 ps://jewishtoronto.com/calendar/uja-march-of-the-living-young-adult-info-n
 ight\n\nMarch of the Living info night for the young adult trip. Details t
 o follow. 
DTSTART;TZID=America/Toronto:20230927T193000
DTEND;TZID=America/Toronto:20230927T203000
END:VEVENT
END:VCALENDAR
