BEGIN:VCALENDAR
PRODID:-//eluceo/ical//2.0/EN
VERSION:2.0
CALSCALE:GREGORIAN
BEGIN:VEVENT
UID:77a79d7a6515bbe343b81ffd08c11ea3
DTSTAMP:20260421T040108Z
SUMMARY:UJA March of the Living Info Night
DESCRIPTION:UJA Federation of Greater Toronto\nJewish Toronto Calendar\nhtt
 ps://jewishtoronto.com/calendar/uja-march-of-the-living-info-night\n\nMarc
 h of the Living info night. Details to follow. 
DTSTART;TZID=America/Toronto:20230920T183000
DTEND;TZID=America/Toronto:20230920T200000
END:VEVENT
END:VCALENDAR
