BEGIN:VCALENDAR
PRODID:-//eluceo/ical//2.0/EN
VERSION:2.0
CALSCALE:GREGORIAN
BEGIN:VEVENT
UID:355d27565bb1ab2bc689d79d9e5a4018
DTSTAMP:20260420T143326Z
SUMMARY:UJA Major Gifts Events
DESCRIPTION:UJA Federation of Greater Toronto\nJewish Toronto Calendar\nhtt
 ps://jewishtoronto.com/calendar/uja-major-gifts-eventsll\n\nThis is a priv
 ate event.
DTSTART;TZID=America/Toronto:20240222T000000
DTEND;TZID=America/Toronto:20240222T235959
END:VEVENT
END:VCALENDAR
