BEGIN:VCALENDAR
PRODID:-//eluceo/ical//2.0/EN
VERSION:2.0
CALSCALE:GREGORIAN
BEGIN:VEVENT
UID:e8343405e1f885dc0e6a45e1b47b83a2
DTSTAMP:20260421T154408Z
SUMMARY:UJA Major Gifts Events
DESCRIPTION:UJA Federation of Greater Toronto\nJewish Toronto Calendar\nhtt
 ps://jewishtoronto.com/calendar/uja-major-gifts-events\n\nThis is a privat
 e event
DTSTART;TZID=America/Toronto:20240122T000000
DTEND;TZID=America/Toronto:20240122T235959
END:VEVENT
END:VCALENDAR
