BEGIN:VCALENDAR
PRODID:-//eluceo/ical//2.0/EN
VERSION:2.0
CALSCALE:GREGORIAN
BEGIN:VEVENT
UID:f389ac2ec34bfb2658d0ac13f5657d95
DTSTAMP:20260422T180938Z
SUMMARY:UJA Leaving your Legacy Event
DESCRIPTION:UJA Federation of Greater Toronto\nJewish Toronto Calendar\nhtt
 ps://jewishtoronto.com/calendar/uja-leaving-your-legacy-event2\n\nThis is 
 a private event. 
DTSTART;TZID=America/Toronto:20230613T000000
DTEND;TZID=America/Toronto:20230613T235959
END:VEVENT
END:VCALENDAR
