BEGIN:VCALENDAR
PRODID:-//eluceo/ical//2.0/EN
VERSION:2.0
CALSCALE:GREGORIAN
BEGIN:VEVENT
UID:cd6e69457d04e2ae67073f86bf0a75ac
DTSTAMP:20260419T131354Z
SUMMARY:UJA | Jewish Resilience and the Arts
DESCRIPTION:UJA Federation of Greater Toronto\nJewish Toronto Calendar\nhtt
 ps://jewishtoronto.com/calendar/uja-jewish-resilience-and-the-arts\n\nThe 
 dramatic rise in antisemitism has affected us all. Join fellow arts and cu
 lture advocates for an informative discussion on the ongoing work to comba
 t this threat. You will gain knowledge and resources to advocate for yours
 elf and your community during this challenging time.
DTSTART;TZID=America/Toronto:20240607T120000
DTEND;TZID=America/Toronto:20240607T130000
END:VEVENT
END:VCALENDAR
