BEGIN:VCALENDAR
PRODID:-//eluceo/ical//2.0/EN
VERSION:2.0
CALSCALE:GREGORIAN
BEGIN:VEVENT
UID:68d81d6cf020fab34ac6ddb64c5d1f94
DTSTAMP:20260420T165316Z
SUMMARY:UJA | Israel in Your Newsfeed
DESCRIPTION:UJA Federation of Greater Toronto\nJewish Toronto Calendar\nhtt
 ps://jewishtoronto.com/calendar/uja-israel-in-your-newsfeed\n\nHey high sc
 hoolers! Feeling overwhelmed by all the confusing stuff on social media af
 ter October 7th? We get it! But guess what? We’ve got your back.\n\nJoin
  us\, UJA Israel Engagement and OpenDor Media (aka Israel Unpacked on YouT
 ube) for an experiential in-person workshop designed just for Grade 10\, 1
 1\, and 12 students in Toronto to help you recognize the difference betwee
 n legitimate statements or criticism of Israel and antisemitism. Plus\, we
 ’ll show you how to form your opinions based...
DTSTART;TZID=America/Toronto:20240410T180000
DTEND;TZID=America/Toronto:20240410T210000
END:VEVENT
END:VCALENDAR
