BEGIN:VCALENDAR
PRODID:-//eluceo/ical//2.0/EN
VERSION:2.0
CALSCALE:GREGORIAN
BEGIN:VEVENT
UID:c17f33529b4afad833dc704de20b125c
DTSTAMP:20260423T074906Z
SUMMARY:UJA Israel 75 Pre-Trip Orientation
DESCRIPTION:UJA Federation of Greater Toronto\nJewish Toronto Calendar\nhtt
 ps://jewishtoronto.com/calendar/uja-israel-75-pre-trip-orientation\n\nUJA 
 Israel 75 Pre-Trip Orientation 
DTSTART;TZID=America/Toronto:20230329T183000
DTEND;TZID=America/Toronto:20230329T203000
END:VEVENT
END:VCALENDAR
