BEGIN:VCALENDAR
PRODID:-//eluceo/ical//2.0/EN
VERSION:2.0
CALSCALE:GREGORIAN
BEGIN:VEVENT
UID:b96244275f5918c8661bb76584bcf064
DTSTAMP:20260423T165531Z
SUMMARY:UJA Israel 75 Info Session
DESCRIPTION:UJA Federation of Greater Toronto\nJewish Toronto Calendar\nhtt
 ps://jewishtoronto.com/calendar/uja-israel-75-info-session3\n\nIsrael 75 M
 ega Mission info session.
DTSTART;TZID=America/Toronto:20230123T180000
DTEND;TZID=America/Toronto:20230123T203000
END:VEVENT
END:VCALENDAR
