BEGIN:VCALENDAR
PRODID:-//eluceo/ical//2.0/EN
VERSION:2.0
CALSCALE:GREGORIAN
BEGIN:VEVENT
UID:9124c2a4aba6f6483de8c2b9f48643a5
DTSTAMP:20260421T011933Z
SUMMARY:UJA Holocaust Education Week Closing Night
DESCRIPTION:UJA Federation of Greater Toronto\nJewish Toronto Calendar\nhtt
 ps://jewishtoronto.com/calendar/uja-holocaust-education-week-closing-night
 \n\nDetails to follow. 
DTSTART;TZID=America/Toronto:20231109T000000
DTEND;TZID=America/Toronto:20231109T235959
END:VEVENT
END:VCALENDAR
