BEGIN:VCALENDAR
PRODID:-//eluceo/ical//2.0/EN
VERSION:2.0
CALSCALE:GREGORIAN
BEGIN:VEVENT
UID:bbece241401a17d35ba98fcbc6374df4
DTSTAMP:20260422T041032Z
SUMMARY:UJA Federation | Shalom U'lhitraot Event
DESCRIPTION:UJA Federation of Greater Toronto\nJewish Toronto Calendar\nhtt
 ps://jewishtoronto.com/calendar/uja-federation-shalom-ulhitraot-event\n\nS
 halom U’lhitraot event for Academic and Career
DTSTART;TZID=America/Toronto:20230605T040000
DTEND;TZID=America/Toronto:20230605T200000
END:VEVENT
END:VCALENDAR
