BEGIN:VCALENDAR
PRODID:-//eluceo/ical//2.0/EN
VERSION:2.0
CALSCALE:GREGORIAN
BEGIN:VEVENT
UID:563460b8f069162188405d0209e44268
DTSTAMP:20260422T233210Z
SUMMARY:UJA Federation | MOL Session #3 (High School)
DESCRIPTION:UJA Federation of Greater Toronto\nJewish Toronto Calendar\nhtt
 ps://jewishtoronto.com/calendar/uja-federation-mol-session-3-high-school\n
 \nThis is a private event. 
DTSTART;TZID=America/Toronto:20230223T000000
DTEND;TZID=America/Toronto:20230223T235959
END:VEVENT
END:VCALENDAR
