BEGIN:VCALENDAR
PRODID:-//eluceo/ical//2.0/EN
VERSION:2.0
CALSCALE:GREGORIAN
BEGIN:VEVENT
UID:e829ad3fe05febf17e385a6c135bb8d3
DTSTAMP:20260425T163547Z
SUMMARY:UJA Federation | March of the Living Torah Project
DESCRIPTION:UJA Federation of Greater Toronto\nJewish Toronto Calendar\nhtt
 ps://jewishtoronto.com/calendar/uja-federation-march-of-the-living-torah-p
 roject\n\nDetails to follow. 
DTSTART;TZID=America/Toronto:20230212T150000
DTEND;TZID=America/Toronto:20230212T180000
END:VEVENT
END:VCALENDAR
