BEGIN:VCALENDAR
PRODID:-//eluceo/ical//2.0/EN
VERSION:2.0
CALSCALE:GREGORIAN
BEGIN:VEVENT
UID:943e9a8e53b1281ef30c5f746107ad28
DTSTAMP:20260425T031755Z
SUMMARY:UJA Federation | HEW: CSYV Survivor Tribute
DESCRIPTION:UJA Federation of Greater Toronto\nJewish Toronto Calendar\nhtt
 ps://jewishtoronto.com/calendar/uja-federation-hew-csyv-survivor-tribute\n
 \nThis is a virtual event. Zoom link to follow. 
DTSTART;TZID=America/Toronto:20221107T193000
DTEND;TZID=America/Toronto:20221107T203000
END:VEVENT
END:VCALENDAR
