BEGIN:VCALENDAR
PRODID:-//eluceo/ical//2.0/EN
VERSION:2.0
CALSCALE:GREGORIAN
BEGIN:VEVENT
UID:ba745c864bd8e744b352c3eba9067c33
DTSTAMP:20260425T014343Z
SUMMARY:UJA Federation | HEW: Commemoration of Kristalnacht
DESCRIPTION:UJA Federation of Greater Toronto\nJewish Toronto Calendar\nhtt
 ps://jewishtoronto.com/calendar/uja-federation-hew-commemoration-of-krista
 lnacht\n\nDetails to follow. 
DTSTART;TZID=America/Toronto:20221109T190000
DTEND;TZID=America/Toronto:20221109T210000
END:VEVENT
END:VCALENDAR
