BEGIN:VCALENDAR
PRODID:-//eluceo/ical//2.0/EN
VERSION:2.0
CALSCALE:GREGORIAN
BEGIN:VEVENT
UID:615ef7f557d686725e998deb7a171cf2
DTSTAMP:20260419T123646Z
SUMMARY:UJA Federation | Hebrew Storytime
DESCRIPTION:UJA Federation of Greater Toronto\nJewish Toronto Calendar\nhtt
 ps://jewishtoronto.com/calendar/uja-federation-hebrew-storytime2\n\nJoin t
 he UJA ShinShinim for stories\, songs\, and play in Hebrew and English. He
 brew Storytime happens once a month\, in partnership with Vaughan Public L
 ibraries.
DTSTART;TZID=America/Toronto:20240228T173000
DTEND;TZID=America/Toronto:20240228T181500
END:VEVENT
END:VCALENDAR
