BEGIN:VCALENDAR
PRODID:-//eluceo/ical//2.0/EN
VERSION:2.0
CALSCALE:GREGORIAN
BEGIN:VEVENT
UID:4bbdfb7297ab9a0435714bc9af019bef
DTSTAMP:20260425T163552Z
SUMMARY:UJA Federation | Diller Teen Fellows Mifgash #6
DESCRIPTION:UJA Federation of Greater Toronto\nJewish Toronto Calendar\nhtt
 ps://jewishtoronto.com/calendar/uja-federation-diller-teen-fellows-mifgash
 -6\n\nDetails to follow. 
DTSTART;TZID=America/Toronto:20230129T140000
DTEND;TZID=America/Toronto:20230129T180000
END:VEVENT
END:VCALENDAR
