BEGIN:VCALENDAR
PRODID:-//eluceo/ical//2.0/EN
VERSION:2.0
CALSCALE:GREGORIAN
BEGIN:VEVENT
UID:76ae30924f1d6b8b33d93fd212c46aac
DTSTAMP:20260423T033519Z
SUMMARY:UJA Federation | Diller Teen Fellows Leadership Shabbaton
DESCRIPTION:UJA Federation of Greater Toronto\nJewish Toronto Calendar\nhtt
 ps://jewishtoronto.com/calendar/uja-federation-diller-teen-fellows-leaders
 hip-shabbaton\n\nDetails to follow. 
DTSTART;TZID=America/Toronto:20230210T000000
DTEND;TZID=America/Toronto:20230212T235959
END:VEVENT
END:VCALENDAR
