BEGIN:VCALENDAR
PRODID:-//eluceo/ical//2.0/EN
VERSION:2.0
CALSCALE:GREGORIAN
BEGIN:VEVENT
UID:735ba76dc5555675f91674d827c67631
DTSTAMP:20260423T065726Z
SUMMARY:UJA Federation | Diller Teen Fellows JCM Mifgash & Shabbaton
DESCRIPTION:UJA Federation of Greater Toronto\nJewish Toronto Calendar\nhtt
 ps://jewishtoronto.com/calendar/uja-federation-diller-teen-fellows-jcm-mif
 gash--shabbaton\n\nDetails to follow. 
DTSTART;TZID=America/Toronto:20230325T000000
DTEND;TZID=America/Toronto:20230403T235959
END:VEVENT
END:VCALENDAR
