BEGIN:VCALENDAR
PRODID:-//eluceo/ical//2.0/EN
VERSION:2.0
CALSCALE:GREGORIAN
BEGIN:VEVENT
UID:4097d48147c93b9c6b6ba509372b5bd1
DTSTAMP:20260422T225054Z
SUMMARY:UJA Federation | Diller Teen Fellows Israel Summer Seminar (ISS)
DESCRIPTION:UJA Federation of Greater Toronto\nJewish Toronto Calendar\nhtt
 ps://jewishtoronto.com/calendar/uja-federation-diller-teen-fellows-israel-
 summer-seminar-iss\n\nDiller Teen Fellows Israel Summer Seminar (ISS).
DTSTART;TZID=America/Toronto:20230702T000000
DTEND;TZID=America/Toronto:20230724T235959
END:VEVENT
END:VCALENDAR
