BEGIN:VCALENDAR
PRODID:-//eluceo/ical//2.0/EN
VERSION:2.0
CALSCALE:GREGORIAN
BEGIN:VEVENT
UID:78739f894bb5d116fbd3c38e31f605cc
DTSTAMP:20260423T033514Z
SUMMARY:UJA Federation | Diller Teen Fellows Family Zoom with Eilat-Eilot
DESCRIPTION:UJA Federation of Greater Toronto\nJewish Toronto Calendar\nhtt
 ps://jewishtoronto.com/calendar/uja-federation-diller-teen-fellows-family-
 zoom-with-eilat-eilot\n\nDetails to follow. 
DTSTART;TZID=America/Toronto:20230305T120000
DTEND;TZID=America/Toronto:20230305T130000
END:VEVENT
END:VCALENDAR
