BEGIN:VCALENDAR
PRODID:-//eluceo/ical//2.0/EN
VERSION:2.0
CALSCALE:GREGORIAN
BEGIN:VEVENT
UID:480e99799a593af521eebc3bce42e5b9
DTSTAMP:20260422T162737Z
SUMMARY:UJA Federation | Creative Writing Contest
DESCRIPTION:UJA Federation of Greater Toronto\nJewish Toronto Calendar\nhtt
 ps://jewishtoronto.com/calendar/uja-federation-creative-writing-contest\n\
 nAnnual Creative Writing Contest. Details to follow. 
DTSTART;TZID=America/Toronto:20230611T100000
DTEND;TZID=America/Toronto:20230611T113000
END:VEVENT
END:VCALENDAR
