BEGIN:VCALENDAR
PRODID:-//eluceo/ical//2.0/EN
VERSION:2.0
CALSCALE:GREGORIAN
BEGIN:VEVENT
UID:106c467a01c3d812589964f25d935060
DTSTAMP:20260425T163537Z
SUMMARY:UJA Federation | Bible Contest - National Chidon HaTanach
DESCRIPTION:UJA Federation of Greater Toronto\nJewish Toronto Calendar\nhtt
 ps://jewishtoronto.com/calendar/uja-federation-bible-contest-national-chid
 on-hatanach\n\nCanadian National Chidon HaTanach for qualifying students.
DTSTART;TZID=America/Toronto:20230507T130000
DTEND;TZID=America/Toronto:20230509T100000
END:VEVENT
END:VCALENDAR
